BEGIN:VCALENDAR
VERSION:2.0
PRODID:-//English Mass Utrecht - ECPv6.15.20//NONSGML v1.0//EN
CALSCALE:GREGORIAN
METHOD:PUBLISH
X-ORIGINAL-URL:https://englishmassutrecht.nl
X-WR-CALDESC:Events for English Mass Utrecht
REFRESH-INTERVAL;VALUE=DURATION:PT1H
X-Robots-Tag:noindex
X-PUBLISHED-TTL:PT1H
BEGIN:VTIMEZONE
TZID:Europe/Amsterdam
BEGIN:DAYLIGHT
TZOFFSETFROM:+0100
TZOFFSETTO:+0200
TZNAME:CEST
DTSTART:20250330T010000
END:DAYLIGHT
BEGIN:STANDARD
TZOFFSETFROM:+0200
TZOFFSETTO:+0100
TZNAME:CET
DTSTART:20251026T010000
END:STANDARD
BEGIN:DAYLIGHT
TZOFFSETFROM:+0100
TZOFFSETTO:+0200
TZNAME:CEST
DTSTART:20260329T010000
END:DAYLIGHT
BEGIN:STANDARD
TZOFFSETFROM:+0200
TZOFFSETTO:+0100
TZNAME:CET
DTSTART:20261025T010000
END:STANDARD
BEGIN:DAYLIGHT
TZOFFSETFROM:+0100
TZOFFSETTO:+0200
TZNAME:CEST
DTSTART:20270328T010000
END:DAYLIGHT
BEGIN:STANDARD
TZOFFSETFROM:+0200
TZOFFSETTO:+0100
TZNAME:CET
DTSTART:20271031T010000
END:STANDARD
END:VTIMEZONE
BEGIN:VEVENT
DTSTART;TZID=Europe/Amsterdam:20260421T150000
DTEND;TZID=Europe/Amsterdam:20260421T200000
DTSTAMP:20260419T192540
CREATED:20260104T112953Z
LAST-MODIFIED:20260413T175237Z
UID:4132-1776783600-1776801600@englishmassutrecht.nl
SUMMARY:Tinus Outreach Dinners
DESCRIPTION:
URL:https://englishmassutrecht.nl/event/tinus-outreach-dinners-16/
LOCATION:St. Augustine Church\, Oudegracht 69\, Utrecht\, 3511EZ\, Netherlands
CATEGORIES:Highlight
END:VEVENT
END:VCALENDAR